BEGIN:VCALENDAR
VERSION:2.0
PRODID:-//TchêSub - ECPv6.15.20//NONSGML v1.0//EN
CALSCALE:GREGORIAN
METHOD:PUBLISH
X-ORIGINAL-URL:http://www.tchesub.com.br
X-WR-CALDESC:Eventos para TchêSub
REFRESH-INTERVAL;VALUE=DURATION:PT1H
X-Robots-Tag:noindex
X-PUBLISHED-TTL:PT1H
BEGIN:VTIMEZONE
TZID:America/Sao_Paulo
BEGIN:STANDARD
TZOFFSETFROM:-0200
TZOFFSETTO:-0300
TZNAME:-03
DTSTART:20140216T020000
END:STANDARD
BEGIN:DAYLIGHT
TZOFFSETFROM:-0300
TZOFFSETTO:-0200
TZNAME:-02
DTSTART:20141019T030000
END:DAYLIGHT
BEGIN:STANDARD
TZOFFSETFROM:-0200
TZOFFSETTO:-0300
TZNAME:-03
DTSTART:20150222T020000
END:STANDARD
BEGIN:DAYLIGHT
TZOFFSETFROM:-0300
TZOFFSETTO:-0200
TZNAME:-02
DTSTART:20151018T030000
END:DAYLIGHT
BEGIN:STANDARD
TZOFFSETFROM:-0200
TZOFFSETTO:-0300
TZNAME:-03
DTSTART:20160221T020000
END:STANDARD
BEGIN:DAYLIGHT
TZOFFSETFROM:-0300
TZOFFSETTO:-0200
TZNAME:-02
DTSTART:20161016T030000
END:DAYLIGHT
END:VTIMEZONE
BEGIN:VEVENT
DTSTART;TZID=America/Sao_Paulo:20150711T080000
DTEND;TZID=America/Sao_Paulo:20150712T170000
DTSTAMP:20260424T042359
CREATED:20150401T221726Z
LAST-MODIFIED:20150401T224335Z
UID:202-1436601600-1436720400@www.tchesub.com.br
SUMMARY:Curso Básico de Mergulho - Julho 2015
DESCRIPTION:A certificação é feita pela IANTD (International Association of Nitrox & Technical Divers) – http://www.iantdbrasil.com.br/ . É uma certificação internacionalO curso é composto de 4 períodos (Sábado e Domingo).\n· Sábado – Manhã — Teoria (Aspectos do Mergulho\, Equipamentos\, Filosofia do mergulho\, Respiração…)\n· Sábado – Tarde — Piscina (Montagem equipamentos\, adaptação e exercícios de respiração…)\n· Domingo – Manhã — Teoria (Fisiologia do Mergulho\, Planejamento …)\n· Domingo – Tarde — Piscina (Exercícios) \nDespois deste curso o aluno está pronto para uma saída de mar conosco (a combinar com a turma data e local). Valor dependerá do tipo de saída. \nSomos um grupo que preza muito pela qualidade e pela segurança no mergulho e oferecemos todos os níveis de certificação. Básico\, Avançado\, Primeiros Socorros (para mergulhadores e não mergulhadores)\, Resgate\, seres marinhos\, equipamentos\, computadores multi-nível\, Nitrox… etc. \nAbaixo alguns links com fotos dos cursos e saídas. \nVeja o último curso… https://www.facebook.com/media/set/?set=a.541384662585496.1073741832.177156062341693&type=3\nVeja a última saída para Angra.. https://www.facebook.com/media/set/?set=a.536446746412621.1073741830.177156062341693&type=3\nVeja saída Live Aboard Enterprise … https://www.facebook.com/media/set/?set=a.509484062442223.1073741826.177156062341693&type=3\nSaída para Laje de Santos… – https://www.facebook.com/media/set/?set=a.516761721714457.1073741828.177156062341693&type=3\nCrianças no curso…. – https://www.facebook.com/media/set/?set=a.475784285812201.107062.177156062341693&type=3 \nAbraços\, \n\n\n\n\n\n\n\n\n\nPUBLICAÇÕES
URL:http://www.tchesub.com.br/evento/curso-basico-de-mergulho-julho-2015/
LOCATION:Tchesub\, Rua Américo Brasiliense\, 965 Sto. Amaro\, São Paulo\, São Paulo\, 04715-003\, Brazil
ATTACH;FMTTYPE=image/jpeg:http://www.tchesub.com.br/wp-content/uploads/2015/03/PICT0214.jpg
ORGANIZER;CN="Ren%C3%A9":MAILTO:rene@tchesub.com.br
END:VEVENT
BEGIN:VEVENT
DTSTART;TZID=America/Sao_Paulo:20150627T080000
DTEND;TZID=America/Sao_Paulo:20150628T160000
DTSTAMP:20260424T042359
CREATED:20150611T231821Z
LAST-MODIFIED:20150611T231821Z
UID:619-1435392000-1435507200@www.tchesub.com.br
SUMMARY:CURSO PRIMEIROS SOCORROS
DESCRIPTION:Você mergulha? faz academia? corre? anda de bike? faz algum esporte? tem criança pequena ou idosos próximos? Se acontecer algo\, voce sabe o que fazer? Acredite\, você pode salvar uma vida. Os primeiros minutos são determinantes. Venha para este curso com o melhor\, nosso mestre Roberto Trindade.\nE-mails para gaucho@tchesub.com.br ou rene@tchesub.com.br
URL:http://www.tchesub.com.br/evento/curso-primeiros-socorros/
LOCATION:Tchesub\, Rua Américo Brasiliense\, 965 Sto. Amaro\, São Paulo\, São Paulo\, 04715-003\, Brazil
ATTACH;FMTTYPE=image/jpeg:http://www.tchesub.com.br/wp-content/uploads/2015/04/1os-Socorros.jpg
END:VEVENT
BEGIN:VEVENT
DTSTART;TZID=America/Sao_Paulo:20150620T080000
DTEND;TZID=America/Sao_Paulo:20150621T170000
DTSTAMP:20260424T042359
CREATED:20150401T221331Z
LAST-MODIFIED:20150401T221609Z
UID:200-1434787200-1434906000@www.tchesub.com.br
SUMMARY:Curso Básico de Mergulho - Junho de 2015
DESCRIPTION:A certificação é feita pela IANTD (International Association of Nitrox & Technical Divers) – http://www.iantdbrasil.com.br/ . É uma certificação internacionalO curso é composto de 4 períodos (Sábado e Domingo).\n· Sábado – Manhã — Teoria (Aspectos do Mergulho\, Equipamentos\, Filosofia do mergulho\, Respiração…)\n· Sábado – Tarde — Piscina (Montagem equipamentos\, adaptação e exercícios de respiração…)\n· Domingo – Manhã — Teoria (Fisiologia do Mergulho\, Planejamento …)\n· Domingo – Tarde — Piscina (Exercícios) \nDespois deste curso o aluno está pronto para uma saída de mar conosco (a combinar com a turma data e local). Valor dependerá do tipo de saída. \nSomos um grupo que preza muito pela qualidade e pela segurança no mergulho e oferecemos todos os níveis de certificação. Básico\, Avançado\, Primeiros Socorros (para mergulhadores e não mergulhadores)\, Resgate\, seres marinhos\, equipamentos\, computadores multi-nível\, Nitrox… etc. \nAbaixo alguns links com fotos dos cursos e saídas. \nVeja o último curso… https://www.facebook.com/media/set/?set=a.541384662585496.1073741832.177156062341693&type=3\nVeja a última saída para Angra.. https://www.facebook.com/media/set/?set=a.536446746412621.1073741830.177156062341693&type=3\nVeja saída Live Aboard Enterprise … https://www.facebook.com/media/set/?set=a.509484062442223.1073741826.177156062341693&type=3\nSaída para Laje de Santos… – https://www.facebook.com/media/set/?set=a.516761721714457.1073741828.177156062341693&type=3\nCrianças no curso…. – https://www.facebook.com/media/set/?set=a.475784285812201.107062.177156062341693&type=3 \nAbraços\, \n\n\n\n\n\n\n\n\n\nPUBLICAÇÕES
URL:http://www.tchesub.com.br/evento/curso-basico-de-mergulho-junho-de-2015/
LOCATION:Tchesub\, Rua Américo Brasiliense\, 965 Sto. Amaro\, São Paulo\, São Paulo\, 04715-003\, Brazil
ATTACH;FMTTYPE=image/jpeg:http://www.tchesub.com.br/wp-content/uploads/2015/03/PICT0214.jpg
ORGANIZER;CN="Ren%C3%A9":MAILTO:rene@tchesub.com.br
END:VEVENT
BEGIN:VEVENT
DTSTART;VALUE=DATE:20150604
DTEND;VALUE=DATE:20150607
DTSTAMP:20260424T042359
CREATED:20150520T011847Z
LAST-MODIFIED:20150520T011847Z
UID:534-1433376000-1433635199@www.tchesub.com.br
SUMMARY:LIVE ABOARD - Enterprise
DESCRIPTION:LIVE ABOARD – ENTERPRISE – 3 DIAS\n4\, 5 e 6 de Junho de 2015 \nVamos aproveitar o feriado mergulhando na companhia de amigos e no maravilhoso Live Aboard Enterprise?\nUm dos 10 melhores Live Aboards do mundo. Já esteve lá? Sabe do que estou falando. Não esteve? Aproveite pois as vagas são limitadas e os mergulhos  “ilimitados” (mergulhe várias vezes por dia). Que tal mergulhar 3\, 4 ou 5 vezes por dia?\nSabe o que mais? Embarcamos na quarta a noite\, mergulhamos na Quinta\, Sexta e Sábado e voltamos para nossas casas no Sábado a noite\, escapando do transito. \nPEDIMOS QUE OS INTERESSADOS RESPONDAM ATÉ DIA 21/05/2015. \nFeriadão!\nBarco liberado para o grupo na quarta a partir das 20:00\nQuinta\, sexta e sábado: mergulhos\, diversão e passeios. \nComo todos já sabem: mergulhos\, comida (ótima e MUITA) e bebidas inclusos no pacote! \n*Acomodações:\n08 cabines para clientes\, sendo:\n02 cabines com cama de casal + 1 cama superior 1\,75m;\n06 cabines com 02 camas (juntas viram casal) + 1 cama superior 2\,00m\,\ntodas com ar condicionado\, banheiro com água quente.\nEnxoval completo cama e banho. \nO que levar: roupas leves e confortáveis\, toalha de praia\, bonés/chapéu\, tênis confortável para as caminhadas e trilhas (se houver)\, chinelo de borracha para uso na embarcação (sem salto )\, protetor solar\, repelente.\nEquipamentos mergulho: máscara\, snorkel\, roupas neoprene (3 a 5 mm long John)\, regulador\, colete\, lanternas com pilhas para o noturno. \nNão permitido a bordo: trazer bebidas alcóolicas (tem para venda)\, animais\, usar secador de cabelo/chapinhas e bronzeador a base de óleo. \nPREÇO:\nMergulhador em cabine Dupla:   R$2.430\,00\nMergulhador em Cabine tripla:   R$2.165\,00\nTurista em cabine dupla:              R$2.235\,00\nTurista em cabine tripla:              R$1.970\,00 \nFORMA DE PAGAMENTO:\nComeçando a pagar em maio (na confirmação da reserva): 6 vezes \nNÃO ESTÁ INCLUSO NO PACOTE:\nAluguel de equipamentos: R$105\,00 por equipamento para os 3 dias.\nJantar na noite do embarque. \nDúvidas? Reservar?\ngaucho@tchesub.com.br\nrene@tchesub.com.br \n* Condições importantes:\nA Programação depende das condições do mar e do perfil do grupo.
URL:http://www.tchesub.com.br/evento/live-aboard-enterprise-2/
LOCATION:Live Aboard – Enterprise\, Angra dos Reis\, Angra dos Reis\, Brazil
ATTACH;FMTTYPE=image/jpeg:http://www.tchesub.com.br/wp-content/uploads/2015/03/10828158_811927858864507_5524288938998474112_o.jpg
END:VEVENT
BEGIN:VEVENT
DTSTART;TZID=America/Sao_Paulo:20150530T080000
DTEND;TZID=America/Sao_Paulo:20150531T170000
DTSTAMP:20260424T042359
CREATED:20150416T200642Z
LAST-MODIFIED:20150416T201111Z
UID:226-1432972800-1433091600@www.tchesub.com.br
SUMMARY:Curso de Resgate (Teoria)
DESCRIPTION:O Mergulho pode ser ainda mais seguro para voce e seus amigos. Quer saber como identificar situações de risco antes delas acontecerem e atuar de forma preventiva. Problemas acontecem devido a encadeamento de erros. Vamos eliminá-los? Novamente nosso mestre Roberto Trindade estará compartilhando sua experiência de anos neste importante treinamento.
URL:http://www.tchesub.com.br/evento/curso-de-resgate/
LOCATION:Tchesub\, Rua Américo Brasiliense\, 965 Sto. Amaro\, São Paulo\, São Paulo\, 04715-003\, Brazil
ATTACH;FMTTYPE=image/jpeg:http://www.tchesub.com.br/wp-content/uploads/2015/04/Restage.jpg
END:VEVENT
BEGIN:VEVENT
DTSTART;TZID=America/Sao_Paulo:20150523T080000
DTEND;TZID=America/Sao_Paulo:20150524T170000
DTSTAMP:20260424T042359
CREATED:20150416T200257Z
LAST-MODIFIED:20150416T200257Z
UID:225-1432368000-1432486800@www.tchesub.com.br
SUMMARY:Curso de Primeiros Socorros
DESCRIPTION:Você mergulha\, faz academia\, corre\, anda de bike\, faz algum esporte? tem criança pequena ou idosos próximos? Acredite\, você pode salvar uma vida.Venha para este curso com o melhor\, nosso mestre Roberto Trindade\n(mergulhador profissional pelo Ministério da Marinha e DPC (Diretoria de Portos e Costas)\, é Mestre em Psicologia\, com especialização em Psicomotricidade. É Técnico em Emergências Médicas pelo Florida Medical Center e Instrutor Trainer por diversas certificadoras internacionais de mergulho como a DAN (Divers Alert Network) e a IANTD (International Association of Nitrox and Technical Divers)\, entre outras).
URL:http://www.tchesub.com.br/evento/curso-de-primeiros-socorros-2/
LOCATION:Tchesub\, Rua Américo Brasiliense\, 965 Sto. Amaro\, São Paulo\, São Paulo\, 04715-003\, Brazil
ATTACH;FMTTYPE=image/jpeg:http://www.tchesub.com.br/wp-content/uploads/2015/04/1os-Socorros.jpg
END:VEVENT
BEGIN:VEVENT
DTSTART;VALUE=DATE:20150425
DTEND;VALUE=DATE:20150427
DTSTAMP:20260424T042359
CREATED:20150314T153028Z
LAST-MODIFIED:20150314T153028Z
UID:143-1429920000-1430092799@www.tchesub.com.br
SUMMARY:Live Aboard Enterprise
DESCRIPTION:Este é um dos 10 melhores Live Aboad do mundo e o melhor\, está bem aqui ao lado. \nSaímos na sexta a noite de Paraty\, navegamos até a ilha Grande em Angra dos Reis e daí é só aproveitar: Boa Companhia\, Mergulhos\, Comida Maravilhosa\, Ótima acomodação. Vamos aproveitar? Enter em contato. \n 
URL:http://www.tchesub.com.br/evento/live-aboard-enterprise/
LOCATION:Ilha Grande – Angra dos Reis\, Angra dos Reis\, Rio de Janeiro\, Brazil
END:VEVENT
BEGIN:VEVENT
DTSTART;TZID=America/Sao_Paulo:20150418T080000
DTEND;TZID=America/Sao_Paulo:20150425T170000
DTSTAMP:20260424T042359
CREATED:20150314T151501Z
LAST-MODIFIED:20150401T215639Z
UID:140-1429344000-1429981200@www.tchesub.com.br
SUMMARY:BONAIRE / 2015
DESCRIPTION:
URL:http://www.tchesub.com.br/evento/bonaire-2015/
LOCATION:Bonaire
ATTACH;FMTTYPE=image/jpeg:http://www.tchesub.com.br/wp-content/uploads/2015/03/1502171_725018600898655_2954215108521846288_o-2.jpg
END:VEVENT
BEGIN:VEVENT
DTSTART;VALUE=DATE:20150418
DTEND;VALUE=DATE:20150419
DTSTAMP:20260424T042359
CREATED:20150401T004707Z
LAST-MODIFIED:20150401T004707Z
UID:192-1429315200-1429401599@www.tchesub.com.br
SUMMARY:Laje de Santos
DESCRIPTION:A Laje de Santos está situada a 42 Km da costa e faz parte do Parque Estadual Marinho da Laje de Santos (PEMLS)\, uma área de proteção integral com 5000 hectares criada em 1993. \nO mergulho na área do PEMLS é feito normalmente na ilha principal\, que é a própria Laje. \nA Laje de Santos é um dos principais pontos de mergulho do Estado de São Paulo\, não só por oferecer condições muito especiais em termos de visibilidade e profundidade\, como também pela grande biodiversidade que o local apresenta. \nCom profundidades variando entre os dez e os vinte e dois metros\, um paredão rochoso abriga uma fauna muito diversificada e exuberante. \nA Laje de Santos proporciona a oportunidade de se observar animais de maior porte\, como as raias jamantas\, visitantes habituais no inverno. \nPeixes de passagem como barracudas também podem ser apreciados com uma certa freqüência. Da mesma forma\, tartarugas e polvos. \nA distância do litoral (cerca de uma hora e meia de lancha rápida)\, aponta para uma maior transparência da água\, trazendo maiores probabilidades de boa visibilidade. \n  \n 
URL:http://www.tchesub.com.br/evento/laje-de-santos/
LOCATION:Laje de Santos\, São Paulo\, Brazil
ATTACH;FMTTYPE=image/jpeg:http://www.tchesub.com.br/wp-content/uploads/2015/03/Laje-de-Santos.jpg
ORGANIZER;CN="Ren%C3%A9":MAILTO:rene@tchesub.com.br
END:VEVENT
BEGIN:VEVENT
DTSTART;TZID=America/Sao_Paulo:20150411T080000
DTEND;TZID=America/Sao_Paulo:20150412T180000
DTSTAMP:20260424T042359
CREATED:20150309T233948Z
LAST-MODIFIED:20150309T233948Z
UID:138-1428739200-1428861600@www.tchesub.com.br
SUMMARY:Curso Básico - Open Water
DESCRIPTION:  \nBem vindos ao Curso básico de mergulho. Este é o primeiro passo para entrar e conhecer este mundo fabuloso. \nA certificação é feita pela IANTD (International Association of Nitrox & Technical Divers) – http://www.iantdbrasil.com.br/ . É uma certificação internacional \nO curso é composto de 4 períodos (Sábado e Domingo).\n· Sábado – Manhã — Teoria (Aspectos do Mergulho\, Equipamentos\, Filosofia do mergulho\, Respiração…)\n· Sábado – Tarde — Piscina (Montagem equipamentos\, adaptação e exercícios de respiração…)\n· Domingo – Manhã — Teoria (Fisiologia do Mergulho\, Planejamento …)\n· Domingo – Tarde — Piscina (Exercícios) \nDespois deste curso o aluno está pronto para uma saída de mar conosco (a combinar com a turma data e local). Valor dependerá do tipo de saída. \nSomos um grupo que preza muito pela qualidade e pela segurança no mergulho e oferecemos todos os níveis de certificação. Básico\, Avançado\, Primeiros Socorros (para mergulhadores e não mergulhadores)\, Resgate\, seres marinhos\, equipamentos\, computadores multi-nível\, Nitrox… etc. \nAbaixo alguns links com fotos dos cursos e saídas. \nVeja o último curso… https://www.facebook.com/media/set/?set=a.541384662585496.1073741832.177156062341693&type=3\nVeja a última saída para Angra.. https://www.facebook.com/media/set/?set=a.536446746412621.1073741830.177156062341693&type=3\nVeja saída Live Aboard Enterprise … https://www.facebook.com/media/set/?set=a.509484062442223.1073741826.177156062341693&type=3\nSaída para Laje de Santos… – https://www.facebook.com/media/set/?set=a.516761721714457.1073741828.177156062341693&type=3\nCrianças no curso…. – https://www.facebook.com/media/set/?set=a.475784285812201.107062.177156062341693&type=3 \nAbraços\,
URL:http://www.tchesub.com.br/evento/curso-basico-open-water/
LOCATION:Tchesub\, Rua Américo Brasiliense\, 965 Sto. Amaro\, São Paulo\, São Paulo\, 04715-003\, Brazil
END:VEVENT
BEGIN:VEVENT
DTSTART;TZID=America/Sao_Paulo:20150328T080000
DTEND;TZID=America/Sao_Paulo:20150329T170000
DTSTAMP:20260424T042359
CREATED:20150309T233123Z
LAST-MODIFIED:20150309T233123Z
UID:134-1427529600-1427648400@www.tchesub.com.br
SUMMARY:Curso de Primeiros Socorros
DESCRIPTION:Você mergulha? anda de bike? faz trilhas? curte surf? Canoagem? gosta de viajar? Faz academia?….tem próximo a você criança ou idoso?\nEntão você DEVERIA ter curso de primeiros socorros!\nAlém de muito importante o curso é bem divertido!
URL:http://www.tchesub.com.br/evento/curso-de-primeiros-socorros/
LOCATION:Tchesub\, Rua Américo Brasiliense\, 965 Sto. Amaro\, São Paulo\, São Paulo\, 04715-003\, Brazil
END:VEVENT
BEGIN:VEVENT
DTSTART;TZID=America/Sao_Paulo:20150321T080000
DTEND;TZID=America/Sao_Paulo:20150322T190000
DTSTAMP:20260424T042359
CREATED:20150309T231920Z
LAST-MODIFIED:20150309T231920Z
UID:130-1426924800-1427050800@www.tchesub.com.br
SUMMARY:Angra dos Reis
DESCRIPTION:Angra dos Reis em Pousada maravilhosa e mergulhos em grande companhia. \nPACOTE INCLUI:\n– Ônibus – Tchesub – Angra – Tchesub\n– salgados e bebidas\n– Duas diárias Pousada LINDA!!!\n– café da manhã e jantar no sábado\, café da manhã e almoço no domingo\n– 4 mergulhos embarcados\n– 2 saídas com lanches frios\, quentes e bebidas incluso\n– profissionais acompanhando \n\nNão faz parte do pacote:\n– bebidas no almoço e jantar\n– locação de equipamentos \n  \nSaída de ônibus na sexta à noite bem de frente da Tchseub \nBarco de Mergulho bem na frente da pousada
URL:http://www.tchesub.com.br/evento/angra-dos-reis/
LOCATION:Angra dos Reis – Angra Fashion\, Angra dos Reis\, Rio de Janeiro\, Brazil
END:VEVENT
END:VCALENDAR